BEGIN:VCALENDAR
VERSION:2.0
PRODID:-//Squarespace Inc/Squarespace 6//v6//EN
BEGIN:VEVENT
UID:5de47f3fe6b0e7013ab7cbfe@squarespace.com
DTSTAMP:20191205T194332Z
DTSTART:20200120T140000Z
DTEND:20200122T200000Z
SUMMARY:JUNIOR KAMP - age 8-10 years
END:VEVENT
END:VCALENDAR
