BEGIN:VCALENDAR
VERSION:2.0
PRODID:-//Squarespace Inc/Squarespace 6//v6//EN
BEGIN:VEVENT
UID:5de485728ca23e2f1dc31669@squarespace.com
DTSTAMP:20191205T194324Z
DTSTART:20200122T140000Z
DTEND:20200124T200000Z
SUMMARY:SENIOR KAMP - age 10-15yrs
END:VEVENT
END:VCALENDAR
