BEGIN:VCALENDAR
VERSION:2.0
PRODID:-//Squarespace Inc/Squarespace 6//v6//EN
BEGIN:VEVENT
UID:5cd9fdae9140b7478a31ccba@squarespace.com
DTSTAMP:20190828T015955Z
DTSTART:20190727T130000Z
DTEND:20190824T143000Z
SUMMARY:Term 3 - Nelson (Saturday)
GEO:-41.293487;173.297777
LOCATION:Codgers Mountain Bike Park\, Codgers Mountain Bike Park\, Nelson\, 
 New Zealand
END:VEVENT
END:VCALENDAR
