BEGIN:VCALENDAR
VERSION:2.0
PRODID:-//Squarespace Inc/Squarespace 6//v6//EN
BEGIN:VEVENT
UID:5cda108ef4e1fc4c3c0b1884@squarespace.com
DTSTAMP:20191213T213516Z
DTSTART:20191015T203000Z
DTEND:20200120T230000Z
SUMMARY:Term 4 - Nelson (Tuesday)
GEO:-41.293487;173.297777
LOCATION:Codgers Mountain Bike Park\, Codgers Mountain Bike Park\, New Zeal
 and
END:VEVENT
END:VCALENDAR
