BEGIN:VCALENDAR
VERSION:2.0
PRODID:-//Squarespace Inc/Squarespace 6//v6//EN
BEGIN:VEVENT
UID:5df404149726b96c2714c0b6@squarespace.com
DTSTAMP:20191214T072201Z
DTSTART:20200211T213000Z
DTEND:20200324T233000Z
SUMMARY:Term 1 - Nelson (Tuesday)
GEO:-41.293487;173.297777
LOCATION:Codgers Mountain Bike Park\, Codgers Mountain Bike Park\, New Zeal
 and
END:VEVENT
END:VCALENDAR
