BEGIN:VCALENDAR
VERSION:2.0
PRODID:-//Squarespace Inc/Squarespace 6//v6//EN
BEGIN:VEVENT
UID:5df427103b2bfa139fd8e62e@squarespace.com
DTSTAMP:20191214T072438Z
DTSTART:20200213T213000Z
DTEND:20200326T233000Z
SUMMARY:Term 1 - Richmond (Thursday)
GEO:-41.348454;173.202492
LOCATION:Easby Park\, Easby Park\, New Zealand
END:VEVENT
END:VCALENDAR
