BEGIN:VCALENDAR
VERSION:2.0
PRODID:-//Squarespace Inc/Squarespace 6//v6//EN
BEGIN:VEVENT
UID:5cda13de0d9297dd1ba578ed@squarespace.com
DTSTAMP:20190831T064057Z
DTSTART:20191016T203000Z
DTEND:20191218T230000Z
SUMMARY:Term 4 - Nelson (Wednesday)
GEO:-41.290536;173.292718
LOCATION:Codgers Mountain Bike Park\, Codgers Mountain Bike Park\, New Zeal
 and
END:VEVENT
END:VCALENDAR
