BEGIN:VCALENDAR
VERSION:2.0
PRODID:-//Squarespace Inc/Squarespace 6//v6//EN
BEGIN:VEVENT
UID:5cda17c44785d3de2f994bf1@squarespace.com
DTSTAMP:20190831T064113Z
DTSTART:20191017T203000Z
DTEND:20191219T230000Z
SUMMARY:Term 4 - Richmond (Thursday)
GEO:-41.348819;173.202372
LOCATION:Easby Park\, Richmond Hills Mountain Bike Park\, New Zealand
END:VEVENT
END:VCALENDAR
