BEGIN:VCALENDAR
VERSION:2.0
PRODID:-//Squarespace Inc/Squarespace 6//v6//EN
BEGIN:VEVENT
UID:5cd9d1a944aabc0001ea40ce@squarespace.com
DTSTAMP:20191213T040911Z
DTSTART:20191014T203000Z
DTEND:20191220T230000Z
SUMMARY:Term 4 - Kaiteriteri (Monday)
GEO:-41.043197;173.012437
LOCATION:Kaiteriteri Mountain Bike Park\, 37 Martin Farm Rd\, Kaiteriteri\, 
 Tasman\, 7197\, New Zealand
END:VEVENT
END:VCALENDAR
