BEGIN:VCALENDAR
VERSION:2.0
PRODID:-//Squarespace Inc/Squarespace 6//v6//EN
BEGIN:VEVENT
UID:5cd9e755a4222f4ef25f90bf@squarespace.com
DTSTAMP:20191213T083224Z
DTSTART:20191014T203000Z
DTEND:20200120T230000Z
SUMMARY:Term 4 - Blenheim (Monday)
GEO:-41.556714;173.933667
LOCATION:Wither Hill MTB park\, Wither Hill MTB park\, Blenheim\, New Zeala
 nd
END:VEVENT
END:VCALENDAR
