BEGIN:VCALENDAR
VERSION:2.0
PRODID:-//Squarespace Inc/Squarespace 6//v6//EN
BEGIN:VEVENT
UID:5df34c988f674e4837addc2f@squarespace.com
DTSTAMP:20191214T072412Z
DTSTART:20200212T223000Z
DTEND:20200325T233000Z
SUMMARY:Term 1 - Blenheim (Wednesday)
GEO:-41.556714;173.933667
LOCATION:Wither Hill MTB park\, Wither Hill MTB park\, Blenheim\, New Zeala
 nd
END:VEVENT
END:VCALENDAR
